BEGIN:VCALENDAR
VERSION:2.0
PRODID:-//Delegación Diocesana para la Pastoral con Jóvenes - ECPv6.15.20//NONSGML v1.0//EN
CALSCALE:GREGORIAN
METHOD:PUBLISH
X-WR-CALNAME:Delegación Diocesana para la Pastoral con Jóvenes
X-ORIGINAL-URL:https://delejusevilla.org
X-WR-CALDESC:Eventos para Delegación Diocesana para la Pastoral con Jóvenes
REFRESH-INTERVAL;VALUE=DURATION:PT1H
X-Robots-Tag:noindex
X-PUBLISHED-TTL:PT1H
BEGIN:VTIMEZONE
TZID:Europe/Madrid
BEGIN:DAYLIGHT
TZOFFSETFROM:+0100
TZOFFSETTO:+0200
TZNAME:CEST
DTSTART:20250330T010000
END:DAYLIGHT
BEGIN:STANDARD
TZOFFSETFROM:+0200
TZOFFSETTO:+0100
TZNAME:CET
DTSTART:20251026T010000
END:STANDARD
BEGIN:DAYLIGHT
TZOFFSETFROM:+0100
TZOFFSETTO:+0200
TZNAME:CEST
DTSTART:20260329T010000
END:DAYLIGHT
BEGIN:STANDARD
TZOFFSETFROM:+0200
TZOFFSETTO:+0100
TZNAME:CET
DTSTART:20261025T010000
END:STANDARD
BEGIN:DAYLIGHT
TZOFFSETFROM:+0100
TZOFFSETTO:+0200
TZNAME:CEST
DTSTART:20270328T010000
END:DAYLIGHT
BEGIN:STANDARD
TZOFFSETFROM:+0200
TZOFFSETTO:+0100
TZNAME:CET
DTSTART:20271031T010000
END:STANDARD
END:VTIMEZONE
BEGIN:VEVENT
DTSTART;VALUE=DATE:20260606
DTEND;VALUE=DATE:20260608
DTSTAMP:20260420T133339
CREATED:20260323T185815Z
LAST-MODIFIED:20260323T191449Z
UID:5034-1780704000-1780876799@delejusevilla.org
SUMMARY:Los jóvenes de Sevilla con el Santo Padre
DESCRIPTION:Toda la información para el encuentro de los jóvenes de Sevilla con el Santo Padre en su visita a España está disponible en la sección Vive\, Encuentros y Jornadas: Los jóvenes de Sevilla con el Santo Padre
URL:https://delejusevilla.org/accion/visita-del-papa-a-espana/
CATEGORIES:VIVE
ATTACH;FMTTYPE=image/jpeg:https://delejusevilla.org/wp-content/uploads/2026/03/visita-santo-padre-espana.webp
END:VEVENT
END:VCALENDAR